BEGIN:VCALENDAR
PRODID:-//Macron Software//NONSGML WebToDate//EN
VERSION:2.0
METHOD:publish
BEGIN:VEVENT
DTSTAMP:20260421T115202
DTSTART:20260312T000000
DTEND:20260312T235959
LOCATION:
DESCRIPTION:

SUMMARY:Bilaterální jednání s prezidentkou SAI Belgie 
CLASS:PUBLIC
END:VEVENT
END:VCALENDAR